Package: HiLDA Version: 1.22.0 Command: rm -rf HiLDA.buildbin-libdir && mkdir HiLDA.buildbin-libdir && /Users/biocbuild/BBS/utils/build-universal.sh HiLDA_1.22.0.tar.gz /Library/Frameworks/R.framework/Resources/bin/R HiLDA.buildbin-libdir StartedAt: 2025-05-02 13:29:19 -0400 (Fri, 02 May 2025) EndedAt: 2025-05-02 13:30:14 -0400 (Fri, 02 May 2025) EllapsedTime: 54.8 seconds RetCode: 0 Status: OK PackageFile: HiLDA_1.22.0.tgz PackageFileSize: 2.606 MiB