Package: HiContacts Version: 1.8.0 Command: rm -rf HiContacts.buildbin-libdir && mkdir HiContacts.buildbin-libdir && /Users/biocbuild/BBS/utils/build-universal.sh HiContacts_1.8.0.tar.gz /Library/Frameworks/R.framework/Resources/bin/R HiContacts.buildbin-libdir StartedAt: 2024-12-20 12:32:50 -0500 (Fri, 20 Dec 2024) EndedAt: 2024-12-20 12:33:55 -0500 (Fri, 20 Dec 2024) EllapsedTime: 64.7 seconds RetCode: 0 Status: OK PackageFile: HiContacts_1.8.0.tgz PackageFileSize: 5.531 MiB