Package: HiCcompare Version: 1.30.0 Command: /Library/Frameworks/R.framework/Resources/bin/R CMD INSTALL HiCcompare StartedAt: 2025-04-21 15:25:23 -0400 (Mon, 21 Apr 2025) EndedAt: 2025-04-21 15:26:09 -0400 (Mon, 21 Apr 2025) EllapsedTime: 46.0 seconds RetCode: 0 Status: OK