Package: HiCaptuRe Version: 1.0.0 Command: /home/biocbuild/bbs-3.22-bioc/R/bin/R CMD INSTALL HiCaptuRe StartedAt: 2025-11-04 15:50:53 -0500 (Tue, 04 Nov 2025) EndedAt: 2025-11-04 15:51:49 -0500 (Tue, 04 Nov 2025) EllapsedTime: 55.8 seconds RetCode: 0 Status: OK