Package: HiCaptuRe Version: 1.0.0 Command: /home/biocbuild/bbs-3.22-bioc/R/bin/R CMD build --keep-empty-dirs --no-resave-data --md5 HiCaptuRe StartedAt: 2025-11-04 18:04:42 -0500 (Tue, 04 Nov 2025) EndedAt: 2025-11-04 18:06:52 -0500 (Tue, 04 Nov 2025) EllapsedTime: 129.1 seconds RetCode: 0 Status: OK PackageFile: HiCaptuRe_1.0.0.tar.gz PackageFileSize: 1.926 MiB