Package: HiCPotts Version: 1.0.0 Command: /home/biocbuild/bbs-3.22-bioc/R/bin/R CMD INSTALL HiCPotts StartedAt: 2025-11-05 15:37:15 -0500 (Wed, 05 Nov 2025) EndedAt: 2025-11-05 15:38:12 -0500 (Wed, 05 Nov 2025) EllapsedTime: 57.3 seconds RetCode: 0 Status: OK