Package: HiCPotts Version: 1.0.0 Command: /home/biocbuild/bbs-3.22-bioc/R/bin/R CMD build --keep-empty-dirs --no-resave-data --md5 HiCPotts StartedAt: 2025-11-05 18:15:38 -0500 (Wed, 05 Nov 2025) EndedAt: 2025-11-05 18:16:56 -0500 (Wed, 05 Nov 2025) EllapsedTime: 78.0 seconds RetCode: 0 Status: OK PackageFile: HiCPotts_1.0.0.tar.gz PackageFileSize: 1.721 MiB