Package: HiCParser Version: 1.2.0 Command: /home/biocbuild/bbs-3.22-bioc/R/bin/R CMD build --keep-empty-dirs --no-resave-data --md5 HiCParser StartedAt: 2025-11-04 18:05:50 -0500 (Tue, 04 Nov 2025) EndedAt: 2025-11-04 18:06:41 -0500 (Tue, 04 Nov 2025) EllapsedTime: 50.0 seconds RetCode: 0 Status: OK PackageFile: HiCParser_1.2.0.tar.gz PackageFileSize: 325.4 KiB