Package: HiCParser Version: 1.2.0 Command: rm -rf HiCParser.buildbin-libdir && mkdir HiCParser.buildbin-libdir && /Users/biocbuild/BBS/utils/build-universal.sh HiCParser_1.2.0.tar.gz /Library/Frameworks/R.framework/Resources/bin/R HiCParser.buildbin-libdir StartedAt: 2025-11-04 01:44:42 -0500 (Tue, 04 Nov 2025) EndedAt: 2025-11-04 01:45:24 -0500 (Tue, 04 Nov 2025) EllapsedTime: 41.8 seconds RetCode: 0 Status: OK PackageFile: HiCParser_1.2.0.tgz PackageFileSize: 401.2 KiB