Package: HiCParser Version: 1.0.0 Command: /home/biocbuild/R/R/bin/R CMD INSTALL HiCParser StartedAt: 2025-10-13 20:36:36 -0000 (Mon, 13 Oct 2025) EndedAt: 2025-10-13 20:37:20 -0000 (Mon, 13 Oct 2025) EllapsedTime: 43.7 seconds RetCode: 0 Status: OK