Package: HiCParser Version: 1.0.0 Command: /home/biocbuild/R/R/bin/R CMD build --keep-empty-dirs --no-resave-data HiCParser StartedAt: 2025-10-14 01:38:38 -0000 (Tue, 14 Oct 2025) EndedAt: 2025-10-14 01:39:51 -0000 (Tue, 14 Oct 2025) EllapsedTime: 72.8 seconds RetCode: 0 Status: OK PackageFile: HiCParser_1.0.0.tar.gz PackageFileSize: 392 KiB