Package: HiCDOC Version: 1.8.0 Command: F:\biocbuild\bbs-3.20-bioc\R\bin\R.exe CMD check --no-multiarch --install=check:HiCDOC.install-out.txt --library=F:\biocbuild\bbs-3.20-bioc\R\library --no-vignettes --timings HiCDOC_1.8.0.tar.gz StartedAt: 2025-01-31 02:53:03 -0500 (Fri, 31 Jan 2025) EndedAt: 2025-01-31 03:01:29 -0500 (Fri, 31 Jan 2025) EllapsedTime: 505.9 seconds RetCode: 0 Status: OK CheckDir: HiCDOC.Rcheck Warnings: 0