Package: HiCDOC Version: 1.10.0 Command: /home/biocbuild/R/R/bin/R CMD INSTALL HiCDOC StartedAt: 2025-05-05 20:47:01 -0000 (Mon, 05 May 2025) EndedAt: 2025-05-05 20:48:00 -0000 (Mon, 05 May 2025) EllapsedTime: 58.6 seconds RetCode: 0 Status: OK