Package: HiCBricks Version: 1.26.0 Command: rm -rf HiCBricks.buildbin-libdir && mkdir HiCBricks.buildbin-libdir && /Users/biocbuild/BBS/utils/build-universal.sh HiCBricks_1.26.0.tar.gz /Library/Frameworks/R.framework/Resources/bin/R HiCBricks.buildbin-libdir StartedAt: 2025-05-09 12:29:48 -0400 (Fri, 09 May 2025) EndedAt: 2025-05-09 12:30:33 -0400 (Fri, 09 May 2025) EllapsedTime: 44.9 seconds RetCode: 0 Status: OK PackageFile: HiCBricks_1.26.0.tgz PackageFileSize: 9.093 MiB