Package: HiCBricks Version: 1.24.0 Command: /Library/Frameworks/R.framework/Resources/bin/R CMD check --install=check:HiCBricks.install-out.txt --library=/Library/Frameworks/R.framework/Resources/library --no-vignettes --timings HiCBricks_1.24.0.tar.gz StartedAt: 2024-11-09 04:24:29 -0500 (Sat, 09 Nov 2024) EndedAt: 2024-11-09 04:29:01 -0500 (Sat, 09 Nov 2024) EllapsedTime: 271.7 seconds RetCode: 0 Status: OK CheckDir: HiCBricks.Rcheck Warnings: 0