Package: Herper Version: 1.16.0 Command: /home/biocbuild/R/R/bin/R CMD check --install=check:Herper.install-out.txt --library=/home/biocbuild/R/R/site-library --no-vignettes --timings Herper_1.16.0.tar.gz StartedAt: 2025-01-31 07:05:13 -0000 (Fri, 31 Jan 2025) EndedAt: 2025-01-31 07:07:40 -0000 (Fri, 31 Jan 2025) EllapsedTime: 147.1 seconds RetCode: 0 Status: OK CheckDir: Herper.Rcheck Warnings: 0