Package: Herper Version: 1.18.0 Command: /Library/Frameworks/R.framework/Resources/bin/R CMD build --keep-empty-dirs --no-resave-data Herper StartedAt: 2025-10-06 19:40:06 -0400 (Mon, 06 Oct 2025) EndedAt: 2025-10-06 19:40:28 -0400 (Mon, 06 Oct 2025) EllapsedTime: 22.0 seconds RetCode: 0 Status: OK PackageFile: Herper_1.18.0.tar.gz PackageFileSize: 407.8 KiB