Package: Heatplus Version: 3.14.0 Command: /home/biocbuild/R/R/bin/R CMD INSTALL Heatplus StartedAt: 2025-01-30 20:06:44 -0000 (Thu, 30 Jan 2025) EndedAt: 2025-01-30 20:07:08 -0000 (Thu, 30 Jan 2025) EllapsedTime: 24.2 seconds RetCode: 0 Status: OK