Package: HarmonizR Version: 1.4.0 Command: /home/biocbuild/bbs-3.20-bioc/R/bin/R CMD INSTALL HarmonizR StartedAt: 2025-01-30 15:52:54 -0500 (Thu, 30 Jan 2025) EndedAt: 2025-01-30 15:52:56 -0500 (Thu, 30 Jan 2025) EllapsedTime: 2.0 seconds RetCode: 0 Status: OK