Package: HarmonizR Version: 1.4.0 Command: /home/biocbuild/bbs-3.20-bioc/R/bin/R CMD check --install=check:HarmonizR.install-out.txt --library=/home/biocbuild/bbs-3.20-bioc/R/site-library --timings HarmonizR_1.4.0.tar.gz StartedAt: 2025-01-30 22:55:20 -0500 (Thu, 30 Jan 2025) EndedAt: 2025-01-30 22:56:20 -0500 (Thu, 30 Jan 2025) EllapsedTime: 60.0 seconds RetCode: 0 Status: OK CheckDir: HarmonizR.Rcheck Warnings: 0