Package: HVP Version: 1.0.0 Command: /home/biocbuild/bbs-3.22-bioc/R/bin/R CMD INSTALL HVP StartedAt: 2025-11-06 15:04:31 -0500 (Thu, 06 Nov 2025) EndedAt: 2025-11-06 15:04:37 -0500 (Thu, 06 Nov 2025) EllapsedTime: 5.6 seconds RetCode: 0 Status: OK