Package: HVP Version: 1.0.0 Command: /home/biocbuild/bbs-3.22-bioc/R/bin/R CMD build --keep-empty-dirs --no-resave-data --md5 HVP StartedAt: 2025-11-06 18:10:05 -0500 (Thu, 06 Nov 2025) EndedAt: 2025-11-06 18:10:56 -0500 (Thu, 06 Nov 2025) EllapsedTime: 51.1 seconds RetCode: 0 Status: OK PackageFile: HVP_1.0.0.tar.gz PackageFileSize: 1.168 MiB