Package: HTqPCR Version: 1.62.0 Command: chmod a+r HTqPCR -R && E:\biocbuild\bbs-3.21-bioc\R\bin\R.exe CMD build --keep-empty-dirs --no-resave-data HTqPCR StartedAt: 2025-08-14 19:46:18 -0400 (Thu, 14 Aug 2025) EndedAt: 2025-08-14 19:46:48 -0400 (Thu, 14 Aug 2025) EllapsedTime: 30.6 seconds RetCode: 0 Status: OK PackageFile: HTqPCR_1.62.0.tar.gz PackageFileSize: 2.408 MiB