Package: HTqPCR Version: 1.62.0 Command: /Library/Frameworks/R.framework/Resources/bin/R CMD build --keep-empty-dirs --no-resave-data HTqPCR StartedAt: 2025-04-24 20:29:35 -0400 (Thu, 24 Apr 2025) EndedAt: 2025-04-24 20:30:21 -0400 (Thu, 24 Apr 2025) EllapsedTime: 45.2 seconds RetCode: 0 Status: OK PackageFile: HTqPCR_1.62.0.tar.gz PackageFileSize: 2.578 MiB