Package: HTqPCR Version: 1.62.0 Command: /Library/Frameworks/R.framework/Resources/bin/R CMD INSTALL HTqPCR StartedAt: 2025-04-21 15:31:47 -0400 (Mon, 21 Apr 2025) EndedAt: 2025-04-21 15:31:50 -0400 (Mon, 21 Apr 2025) EllapsedTime: 3.1 seconds RetCode: 0 Status: OK