Package: HTqPCR Version: 1.62.0 Maintainer: Matthew N. McCall MaintainerEmail: mccallm at gmail.com git_url: https://git.bioconductor.org/packages/HTqPCR git_branch: RELEASE_3_21 git_last_commit: d2e6479 git_last_commit_date: 2025-04-15 13:49:39 -0400 (Tue, 15 Apr 2025)