Package: HPiP Version: 1.12.0 Command: /home/biocbuild/R/R/bin/R CMD check --install=check:HPiP.install-out.txt --library=/home/biocbuild/R/R/site-library --no-vignettes --timings HPiP_1.12.0.tar.gz StartedAt: 2025-01-31 07:13:16 -0000 (Fri, 31 Jan 2025) EndedAt: 2025-01-31 07:19:01 -0000 (Fri, 31 Jan 2025) EllapsedTime: 345.5 seconds RetCode: 0 Status: OK CheckDir: HPiP.Rcheck Warnings: 0