Package: HPiP Version: 1.14.0 Maintainer: Matineh Rahmatbakhsh MaintainerEmail: matinerb.94 at gmail.com git_url: https://git.bioconductor.org/packages/HPiP git_branch: RELEASE_3_21 git_last_commit: e2435b7 git_last_commit_date: 2025-04-15 12:38:30 -0400 (Tue, 15 Apr 2025)