Package: HPAanalyze Version: 1.26.1 Command: E:\biocbuild\bbs-3.21-bioc\R\bin\R.exe CMD INSTALL HPAanalyze StartedAt: 2025-08-14 15:29:31 -0400 (Thu, 14 Aug 2025) EndedAt: 2025-08-14 15:30:01 -0400 (Thu, 14 Aug 2025) EllapsedTime: 30.3 seconds RetCode: 0 Status: OK