Package: HPAanalyze Version: 1.26.1 Command: /home/biocbuild/bbs-3.21-bioc/R/bin/R CMD build --keep-empty-dirs --no-resave-data HPAanalyze StartedAt: 2025-10-01 18:04:47 -0400 (Wed, 01 Oct 2025) EndedAt: 2025-10-01 18:05:47 -0400 (Wed, 01 Oct 2025) EllapsedTime: 60.0 seconds RetCode: 0 Status: OK PackageFile: HPAanalyze_1.26.1.tar.gz PackageFileSize: 4.953 MiB