Package: HPAanalyze Version: 1.26.0 Command: /Library/Frameworks/R.framework/Resources/bin/R CMD check --install=check:HPAanalyze.install-out.txt --library=/Library/Frameworks/R.framework/Resources/library --no-vignettes --timings HPAanalyze_1.26.0.tar.gz StartedAt: 2025-05-13 05:12:49 -0400 (Tue, 13 May 2025) EndedAt: 2025-05-13 05:15:34 -0400 (Tue, 13 May 2025) EllapsedTime: 164.8 seconds RetCode: 0 Status: OK CheckDir: HPAanalyze.Rcheck Warnings: 0