Package: HPAanalyze Version: 1.26.0 Command: /Library/Frameworks/R.framework/Resources/bin/R CMD build --keep-empty-dirs --no-resave-data HPAanalyze StartedAt: 2025-05-12 20:19:58 -0400 (Mon, 12 May 2025) EndedAt: 2025-05-12 20:21:48 -0400 (Mon, 12 May 2025) EllapsedTime: 109.9 seconds RetCode: 0 Status: OK PackageFile: HPAanalyze_1.26.0.tar.gz PackageFileSize: 6.918 MiB