Package: HPAanalyze Version: 1.26.0 Command: /home/biocbuild/R/R/bin/R CMD build --keep-empty-dirs --no-resave-data HPAanalyze StartedAt: 2025-05-13 01:27:15 -0000 (Tue, 13 May 2025) EndedAt: 2025-05-13 01:28:15 -0000 (Tue, 13 May 2025) EllapsedTime: 60.0 seconds RetCode: 0 Status: OK PackageFile: HPAanalyze_1.26.0.tar.gz PackageFileSize: 7.224 MiB