Package: HIREewas Version: 1.24.0 Command: F:\biocbuild\bbs-3.20-bioc\R\bin\R.exe CMD INSTALL HIREewas StartedAt: 2025-01-30 15:24:20 -0500 (Thu, 30 Jan 2025) EndedAt: 2025-01-30 15:24:29 -0500 (Thu, 30 Jan 2025) EllapsedTime: 8.8 seconds RetCode: 0 Status: OK