Package: HIREewas Version: 1.26.0 Command: E:\biocbuild\bbs-3.21-bioc\R\bin\R.exe CMD INSTALL HIREewas StartedAt: 2025-08-14 15:21:46 -0400 (Thu, 14 Aug 2025) EndedAt: 2025-08-14 15:21:55 -0400 (Thu, 14 Aug 2025) EllapsedTime: 8.7 seconds RetCode: 0 Status: OK