Package: HIREewas Version: 1.26.0 Command: /home/biocbuild/bbs-3.21-bioc/R/bin/R CMD build --keep-empty-dirs --no-resave-data HIREewas StartedAt: 2025-10-15 18:00:15 -0400 (Wed, 15 Oct 2025) EndedAt: 2025-10-15 18:01:07 -0400 (Wed, 15 Oct 2025) EllapsedTime: 52.1 seconds RetCode: 0 Status: OK PackageFile: HIREewas_1.26.0.tar.gz PackageFileSize: 265.6 KiB