Package: HIREewas Version: 1.26.0 Command: /home/biocbuild/R/R/bin/R CMD build --keep-empty-dirs --no-resave-data HIREewas StartedAt: 2025-10-10 01:41:48 -0000 (Fri, 10 Oct 2025) EndedAt: 2025-10-10 01:43:18 -0000 (Fri, 10 Oct 2025) EllapsedTime: 90.0 seconds RetCode: 0 Status: OK PackageFile: HIREewas_1.26.0.tar.gz PackageFileSize: 257.5 KiB