Package: HIREewas Version: 1.26.0 Command: /Library/Frameworks/R.framework/Resources/bin/R CMD INSTALL HIREewas StartedAt: 2025-04-21 15:02:08 -0400 (Mon, 21 Apr 2025) EndedAt: 2025-04-21 15:02:15 -0400 (Mon, 21 Apr 2025) EllapsedTime: 6.6 seconds RetCode: 0 Status: OK