Package: HIPPO Version: 1.18.0 Command: /home/biocbuild/R/R/bin/R CMD check --install=check:HIPPO.install-out.txt --library=/home/biocbuild/R/R/site-library --no-vignettes --timings HIPPO_1.18.0.tar.gz StartedAt: 2025-01-31 07:10:22 -0000 (Fri, 31 Jan 2025) EndedAt: 2025-01-31 07:13:59 -0000 (Fri, 31 Jan 2025) EllapsedTime: 217.2 seconds RetCode: 0 Status: OK CheckDir: HIPPO.Rcheck Warnings: 0