Package: HIPPO Version: 1.20.0 Command: rm -rf HIPPO.buildbin-libdir && mkdir HIPPO.buildbin-libdir && /Users/biocbuild/BBS/utils/build-universal.sh HIPPO_1.20.0.tar.gz /Library/Frameworks/R.framework/Resources/bin/R HIPPO.buildbin-libdir StartedAt: 2025-04-22 00:49:58 -0400 (Tue, 22 Apr 2025) EndedAt: 2025-04-22 00:50:34 -0400 (Tue, 22 Apr 2025) EllapsedTime: 36.1 seconds RetCode: 0 Status: OK PackageFile: HIPPO_1.20.0.tgz PackageFileSize: 965.4 KiB