Package: HIPPO Version: 1.20.0 Command: /Library/Frameworks/R.framework/Resources/bin/R CMD INSTALL HIPPO StartedAt: 2025-04-21 15:12:15 -0400 (Mon, 21 Apr 2025) EndedAt: 2025-04-21 15:12:26 -0400 (Mon, 21 Apr 2025) EllapsedTime: 11.2 seconds RetCode: 0 Status: OK