Package: HIPPO Version: 1.20.0 Command: /Library/Frameworks/R.framework/Resources/bin/R CMD check --install=check:HIPPO.install-out.txt --library=/Library/Frameworks/R.framework/Resources/library --no-vignettes --timings HIPPO_1.20.0.tar.gz StartedAt: 2025-04-21 19:49:54 -0400 (Mon, 21 Apr 2025) EndedAt: 2025-04-21 19:51:08 -0400 (Mon, 21 Apr 2025) EllapsedTime: 73.9 seconds RetCode: 0 Status: OK CheckDir: HIPPO.Rcheck Warnings: 0