Package: HIPPO Version: 1.20.0 Command: /Library/Frameworks/R.framework/Resources/bin/R CMD build --keep-empty-dirs --no-resave-data HIPPO StartedAt: 2025-04-21 16:38:07 -0400 (Mon, 21 Apr 2025) EndedAt: 2025-04-21 16:38:26 -0400 (Mon, 21 Apr 2025) EllapsedTime: 18.2 seconds RetCode: 0 Status: OK PackageFile: HIPPO_1.20.0.tar.gz PackageFileSize: 648.1 KiB