Package: HIPPO Version: 1.20.0 Command: /Library/Frameworks/R.framework/Resources/bin/R CMD INSTALL HIPPO StartedAt: 2025-05-05 16:06:46 -0400 (Mon, 05 May 2025) EndedAt: 2025-05-05 16:07:16 -0400 (Mon, 05 May 2025) EllapsedTime: 29.3 seconds RetCode: 0 Status: OK