Package: HIBAG Version: 1.44.0 Command: /home/biocbuild/R/R/bin/R CMD build --keep-empty-dirs --no-resave-data HIBAG StartedAt: 2025-10-03 01:39:06 -0000 (Fri, 03 Oct 2025) EndedAt: 2025-10-03 01:39:55 -0000 (Fri, 03 Oct 2025) EllapsedTime: 49.0 seconds RetCode: 0 Status: OK PackageFile: HIBAG_1.44.0.tar.gz PackageFileSize: 1.724 MiB