Package: HGC Version: 1.14.0 Command: /home/biocbuild/bbs-3.20-bioc/R/bin/R CMD check --install=check:HGC.install-out.txt --library=/home/biocbuild/bbs-3.20-bioc/R/site-library --timings HGC_1.14.0.tar.gz StartedAt: 2025-01-30 22:57:50 -0500 (Thu, 30 Jan 2025) EndedAt: 2025-01-30 23:00:50 -0500 (Thu, 30 Jan 2025) EllapsedTime: 180.2 seconds RetCode: 0 Status: WARNINGS CheckDir: HGC.Rcheck Warnings: 1