Package: HGC Version: 1.14.0 Command: /Library/Frameworks/R.framework/Resources/bin/R CMD check --install=check:HGC.install-out.txt --library=/Library/Frameworks/R.framework/Resources/library --no-vignettes --timings HGC_1.14.0.tar.gz StartedAt: 2025-01-31 21:47:43 -0500 (Fri, 31 Jan 2025) EndedAt: 2025-01-31 21:51:06 -0500 (Fri, 31 Jan 2025) EllapsedTime: 203.9 seconds RetCode: 0 Status: WARNINGS CheckDir: HGC.Rcheck Warnings: 1