Package: HERON Version: 1.6.0 Command: /home/biocbuild/R/R/bin/R CMD INSTALL HERON StartedAt: 2025-05-05 20:35:47 -0000 (Mon, 05 May 2025) EndedAt: 2025-05-05 20:36:18 -0000 (Mon, 05 May 2025) EllapsedTime: 31.2 seconds RetCode: 0 Status: OK