Package: HEM Version: 1.78.0 Command: /home/biocbuild/R/R/bin/R CMD check --install=check:HEM.install-out.txt --library=/home/biocbuild/R/R/site-library --no-vignettes --timings HEM_1.78.0.tar.gz StartedAt: 2025-01-31 07:05:00 -0000 (Fri, 31 Jan 2025) EndedAt: 2025-01-31 07:05:29 -0000 (Fri, 31 Jan 2025) EllapsedTime: 29.0 seconds RetCode: 0 Status: OK CheckDir: HEM.Rcheck Warnings: 0