Package: HEM Version: 1.80.0 Command: /home/biocbuild/bbs-3.21-bioc/R/bin/R CMD build --keep-empty-dirs --no-resave-data HEM StartedAt: 2025-09-28 18:10:21 -0400 (Sun, 28 Sep 2025) EndedAt: 2025-09-28 18:10:30 -0400 (Sun, 28 Sep 2025) EllapsedTime: 9.0 seconds RetCode: 0 Status: OK PackageFile: HEM_1.80.0.tar.gz PackageFileSize: 612.2 KiB